BEGIN:VCALENDAR
VERSION:2.0
PRODID:-//Timmy&#039;s Mountain - ECPv6.15.20//NONSGML v1.0//EN
CALSCALE:GREGORIAN
METHOD:PUBLISH
X-WR-CALNAME:Timmy&#039;s Mountain
X-ORIGINAL-URL:https://timmysmountain.com
X-WR-CALDESC:Events for Timmy&#039;s Mountain
REFRESH-INTERVAL;VALUE=DURATION:PT1H
X-Robots-Tag:noindex
X-PUBLISHED-TTL:PT1H
BEGIN:VTIMEZONE
TZID:UTC
BEGIN:STANDARD
TZOFFSETFROM:+0000
TZOFFSETTO:+0000
TZNAME:UTC
DTSTART:20250101T000000
END:STANDARD
END:VTIMEZONE
BEGIN:VEVENT
DTSTART;TZID=UTC:20260727T093000
DTEND;TZID=UTC:20260727T190000
DTSTAMP:20260420T014816
CREATED:20260416T185731Z
LAST-MODIFIED:20260416T190750Z
UID:6544-1785144600-1785178800@timmysmountain.com
SUMMARY:Timmy's Mountain 22nd Golf Tournament & Dinner Gala
DESCRIPTION:We’re celebrating more than 20 years of educating\, feeding and providing medical care for hundreds of children in Honduras!  Celebrate with us at the 22nd Annual Golf Tournament and Dinner Gala! \n18 holes of golf\, 4 person scramble and 3 flights of play at Old Hickory Golf Club\nLunch\, Dinner Gala\, Drinks all day!\nHappy Hour at 19th hole following golf\nSilent & Oral Auction\, Games and Awards! \nTo register\, sponsor or come for an amazing happy hour\, games\, dinner gala & auction tickets are available below.  You can also use the QR code on the brochure to pay via Venmo.  You will NOT need a printed ticket to attend. \nRegister by June 29th for Timmy’s Mountain 22nd Annual Golf Tournament & Gala at Old Hickory Golf Club and receive a significant discount on foursomes and single golfers! \nAll proceeds help feed and educate more than 200 children currently on Timmy’s Mountain in Honduras. ❤ \nCan’t attend?  Please consider a donation using the GIVE button on top of this page.  Printable Brochure – 2026 Golf Brochure PDF
URL:https://timmysmountain.com/event/timmys-mountain-22nd-golf-tournament-dinner-gala/
LOCATION:Old Hickory Golf Club
END:VEVENT
END:VCALENDAR